BEGIN:VCALENDAR
VERSION:2.0
PRODID:-//ChiOmega - ECPv6.9.0//NONSGML v1.0//EN
CALSCALE:GREGORIAN
METHOD:PUBLISH
X-WR-CALNAME:ChiOmega
X-ORIGINAL-URL:https://chiomegahouston.com
X-WR-CALDESC:Events for ChiOmega
REFRESH-INTERVAL;VALUE=DURATION:PT1H
X-Robots-Tag:noindex
X-PUBLISHED-TTL:PT1H
BEGIN:VTIMEZONE
TZID:America/Chicago
BEGIN:DAYLIGHT
TZOFFSETFROM:-0600
TZOFFSETTO:-0500
TZNAME:CDT
DTSTART:20240310T080000
END:DAYLIGHT
BEGIN:STANDARD
TZOFFSETFROM:-0500
TZOFFSETTO:-0600
TZNAME:CST
DTSTART:20241103T070000
END:STANDARD
END:VTIMEZONE
BEGIN:VEVENT
DTSTART;TZID=America/Chicago:20241025T180000
DTEND;TZID=America/Chicago:20241025T220000
DTSTAMP:20260423T143816
CREATED:20240924T214931Z
LAST-MODIFIED:20240926T154231Z
UID:12443-1729879200-1729893600@chiomegahouston.com
SUMMARY:HAPF 21st Annual Wine Tasting and Dinner - Fiesta de la amistad
DESCRIPTION:Houston Alumnae Panhellenic Foundation 21st Annual Wine Tasting and Dinner – Fiesta de la amistad \nProceeds benefit HAPF Scholarships \nIn addition to the wine tasting and dinner there will be a cork pull and raffle. The raffle tickets can be purchased through the QR Code and are available even if you cannot attend the event. The raffle baskets have a minimum value of $150. Chi Omega’s basket theme is Garden Party and is valued at $290 with gift certificates to Buchanan’s Native Plants\, Cultivare and bottle of wine and other garden themed items. \nVisit (https://linktr.ee/houstonpanhellenic) for all related forms regarding donations and reservations!
URL:https://chiomegahouston.com/events/half-21st-annual-wine-tasting-and-dinner-fiesta-de-la-amistad/
LOCATION:The Orginal Cadillac Bar\, 1802 Shepherd Drive\, Houston\, TX\, 77007
ORGANIZER;CN="Taylor Thompson":MAILTO:panhellenic@chiomegahouston.com
END:VEVENT
END:VCALENDAR